BEGIN:VCALENDAR
VERSION:2.0
PRODID:-//Augma Biomaterials - ECPv6.15.16//NONSGML v1.0//EN
CALSCALE:GREGORIAN
METHOD:PUBLISH
X-WR-CALNAME:Augma Biomaterials
X-ORIGINAL-URL:https://www.augmabio.com
X-WR-CALDESC:Events for Augma Biomaterials
REFRESH-INTERVAL;VALUE=DURATION:PT1H
X-Robots-Tag:noindex
X-PUBLISHED-TTL:PT1H
BEGIN:VTIMEZONE
TZID:UTC
BEGIN:STANDARD
TZOFFSETFROM:+0000
TZOFFSETTO:+0000
TZNAME:UTC
DTSTART:20230101T000000
END:STANDARD
END:VTIMEZONE
BEGIN:VEVENT
DTSTART;VALUE=DATE:20240516
DTEND;VALUE=DATE:20240519
DTSTAMP:20260419T123724
CREATED:20240318T221808Z
LAST-MODIFIED:20240322T150837Z
UID:621602-1715817600-1716076799@www.augmabio.com
SUMMARY:CDA 2024
DESCRIPTION:Come and say hello \nBooth #1686
URL:https://www.augmabio.com/event/greater-new-york-dental-meeting-2024/
LOCATION:Anaheim Convention Center\, 800 W Katella Ave\, Anaheim\, 92802\, United States
ATTACH;FMTTYPE=image/png:https://www.augmabio.com/wp-content/uploads/2024/03/cda-2024-9-247x247-1.png
END:VEVENT
BEGIN:VEVENT
DTSTART;TZID=UTC:20240517T083000
DTEND;TZID=UTC:20240517T170000
DTSTAMP:20260419T123724
CREATED:20240322T150605Z
LAST-MODIFIED:20240322T150704Z
UID:621651-1715934600-1715965200@www.augmabio.com
SUMMARY:Augma Full-Day Course – Santa Rosa\, CA
DESCRIPTION:
URL:https://www.augmabio.com/event/augma-full-day-course-santa-rosa-ca/
LOCATION:Hyatt Regency Sonoma Wine Country\, 170 Railroad St\, Santa Rosa\, CA\, 95401\, United States
ATTACH;FMTTYPE=image/png:https://www.augmabio.com/wp-content/uploads/2024/03/santa-rosa-2-247x247-1.png
ORGANIZER;CN="Augma Biomaterials USA":MAILTO:info@augmabio.com
END:VEVENT
END:VCALENDAR