BEGIN:VCALENDAR
VERSION:2.0
PRODID:-//Augma Biomaterials - ECPv6.15.16//NONSGML v1.0//EN
CALSCALE:GREGORIAN
METHOD:PUBLISH
X-WR-CALNAME:Augma Biomaterials
X-ORIGINAL-URL:https://www.augmabio.com
X-WR-CALDESC:Events for Augma Biomaterials
REFRESH-INTERVAL;VALUE=DURATION:PT1H
X-Robots-Tag:noindex
X-PUBLISHED-TTL:PT1H
BEGIN:VTIMEZONE
TZID:UTC
BEGIN:STANDARD
TZOFFSETFROM:+0000
TZOFFSETTO:+0000
TZNAME:UTC
DTSTART:20230101T000000
END:STANDARD
END:VTIMEZONE
BEGIN:VEVENT
DTSTART;TZID=UTC:20240525T083000
DTEND;TZID=UTC:20240525T170000
DTSTAMP:20260419T123745
CREATED:20240322T182638Z
LAST-MODIFIED:20240322T182638Z
UID:621664-1716625800-1716656400@www.augmabio.com
SUMMARY:Augma Full-Day Course – Iași\, Romania
DESCRIPTION:
URL:https://www.augmabio.com/event/augma-full-day-course-iasi-romania/
LOCATION:Grand Hotel Traian\, Piața Unirii 1\, Iași\, Romania\, 700056
ATTACH;FMTTYPE=image/png:https://www.augmabio.com/wp-content/uploads/2024/03/Iasi-romania-247x247-1.png
ORGANIZER;CN="Augma Biomaterials LTD":MAILTO:info@augmabio.com
END:VEVENT
END:VCALENDAR