BEGIN:VCALENDAR
VERSION:2.0
PRODID:-//Augma Biomaterials - ECPv6.15.16//NONSGML v1.0//EN
CALSCALE:GREGORIAN
METHOD:PUBLISH
X-WR-CALNAME:Augma Biomaterials
X-ORIGINAL-URL:https://www.augmabio.com
X-WR-CALDESC:Events for Augma Biomaterials
REFRESH-INTERVAL;VALUE=DURATION:PT1H
X-Robots-Tag:noindex
X-PUBLISHED-TTL:PT1H
BEGIN:VTIMEZONE
TZID:UTC
BEGIN:STANDARD
TZOFFSETFROM:+0000
TZOFFSETTO:+0000
TZNAME:UTC
DTSTART:20230101T000000
END:STANDARD
END:VTIMEZONE
BEGIN:VEVENT
DTSTART;TZID=UTC:20240412T083000
DTEND;TZID=UTC:20240412T170000
DTSTAMP:20260425T140629
CREATED:20240319T130742Z
LAST-MODIFIED:20240319T131813Z
UID:621608-1712910600-1712941200@www.augmabio.com
SUMMARY:Augma Full-Day Course - Manhattan\, NY
DESCRIPTION:
URL:https://www.augmabio.com/event/augma-full-day-course-manhattan-ny/
LOCATION:New York Marriott Marquis\, 1535 Broadway\, New York\, NY\, 10036\, United States
ATTACH;FMTTYPE=image/png:https://www.augmabio.com/wp-content/uploads/2024/03/nyc-247x247-1.png
ORGANIZER;CN="Augma Biomaterials USA":MAILTO:info@augmabio.com
END:VEVENT
BEGIN:VEVENT
DTSTART;TZID=UTC:20240405T083000
DTEND;TZID=UTC:20240405T170000
DTSTAMP:20260425T140629
CREATED:20240319T132257Z
LAST-MODIFIED:20240319T132257Z
UID:621616-1712305800-1712336400@www.augmabio.com
SUMMARY:Augma Full-Day Course - Jerusalem
DESCRIPTION:
URL:https://www.augmabio.com/event/augma-full-day-course-jerusalem/
LOCATION:Waldorf Astoria Jerusalem\, Gershon Agron St 26-28\, Jerusalem\, 9419008\, Israel
ATTACH;FMTTYPE=image/png:https://www.augmabio.com/wp-content/uploads/2024/03/Israel-Jerusalem-Course-247x247-1.png
ORGANIZER;CN="Augma Biomaterials LTD":MAILTO:info@augmabio.com
END:VEVENT
BEGIN:VEVENT
DTSTART;VALUE=DATE:20240402
DTEND;VALUE=DATE:20240404
DTSTAMP:20260425T140629
CREATED:20240319T131509Z
LAST-MODIFIED:20240319T131618Z
UID:621613-1712016000-1712188799@www.augmabio.com
SUMMARY:Greater Long Island Dental Meeting
DESCRIPTION:Come and say hello \nBooth #35
URL:https://www.augmabio.com/event/greater-long-island-dental-meeting/
LOCATION:Hilton Long Island\, 598 Broadhollow Rd\, Melville\, NY\, 11747\, United States
ATTACH;FMTTYPE=image/png:https://www.augmabio.com/wp-content/uploads/2024/03/Augma-events-board-2024-7-247x247-1.png
END:VEVENT
END:VCALENDAR